BEGIN:VCALENDAR
VERSION:2.0
PRODID:-//Tukios.com/
BEGIN:VEVENT
UID:b5416da8-e518-4efb-a6a5-2335084e13c1@obits.cremationsocietyofmadison.com
DTSTAMP:20260421T172707Z
DTSTART:20260430T220000Z
DTEND:20260430T230000Z
SUMMARY:Memorial Service
DESCRIPTION:
URL:https://obits.cremationsocietyofmadison.com/claire-busse
LOCATION:First Unitarian Society of Madison 900 University Bay Drive  
	Madison WI 53705
GEO:43.0757353;-89.4355528
END:VEVENT
END:VCALENDAR